BEGIN:VCALENDAR
VERSION:2.0
PRODID:www.mobile-brownie.com
X-WR-TIMEZONE:Europe/Berlin
X-PUBLISHED-TTL:P1W
BEGIN:VEVENT
UID:69e4c35ab7384
DTSTART;TZID=Europe/Berlin:20170123T100000
SEQUENCE:0
TRANSP:OPAQUE
DTEND;TZID=Europe/Berlin:20170123T110000
LOCATION:Sporthalle
SUMMARY:Senioren Turnen Männer
RRULE:FREQ=WEEKLY;INTERVAL=1;BYDAY=TU;BYHOUR=10;BYMINUTE=0
DTSTAMP:20260419T135818Z
END:VEVENT
BEGIN:VTIMEZONE
TZID:Europe/Berlin
X-LIC-LOCATION:Europe/Berlin
END:VTIMEZONE
END:VCALENDAR