BEGIN:VCALENDAR
VERSION:2.0
PRODID:www.mobile-brownie.com
X-WR-TIMEZONE:Europe/Berlin
X-PUBLISHED-TTL:P1W
BEGIN:VEVENT
UID:69e4eb80274ee
DTSTART;TZID=Europe/Berlin:20110304T000000
SEQUENCE:0
TRANSP:OPAQUE
DTEND;TZID=Europe/Berlin:20110304T235959
LOCATION:Klosterstr. 18a\, 31737 Rinteln
SUMMARY:Krabbel - Treffs\nMüttern und Vätern mit Kindern von 1 bis ca. 3 
 Jahren
RRULE:FREQ=WEEKLY;INTERVAL=1;BYDAY=MO
DTSTAMP:20260419T164936Z
END:VEVENT
BEGIN:VTIMEZONE
TZID:Europe/Berlin
X-LIC-LOCATION:Europe/Berlin
END:VTIMEZONE
END:VCALENDAR