BEGIN:VCALENDAR
VERSION:2.0
PRODID:www.mobile-brownie.com
X-WR-TIMEZONE:Europe/Berlin
X-PUBLISHED-TTL:P1W
BEGIN:VEVENT
UID:69e4c31d03b2a
DTSTART;TZID=Europe/Berlin:20170123T160000
SEQUENCE:0
TRANSP:OPAQUE
DTEND;TZID=Europe/Berlin:20170123T170000
LOCATION:Sporthalle
SUMMARY:Kindertanz 6-7 Jahre
RRULE:FREQ=WEEKLY;INTERVAL=1;BYDAY=TU;BYHOUR=16;BYMINUTE=0
DTSTAMP:20260419T135717Z
END:VEVENT
BEGIN:VTIMEZONE
TZID:Europe/Berlin
X-LIC-LOCATION:Europe/Berlin
END:VTIMEZONE
END:VCALENDAR