BEGIN:VCALENDAR
VERSION:2.0
PRODID:www.mobile-brownie.com
X-WR-TIMEZONE:Europe/Berlin
X-PUBLISHED-TTL:P1W
BEGIN:VEVENT
UID:69e4d82762beb
DTSTART;TZID=Europe/Berlin:20140115T173000
SEQUENCE:0
TRANSP:OPAQUE
DTEND;TZID=Europe/Berlin:20140115T235959
SUMMARY:Jugendfeuerwehr Wölpinghausen
RRULE:FREQ=WEEKLY;INTERVAL=1;BYDAY=MO;BYHOUR=17;BYMINUTE=30
DTSTAMP:20260419T152703Z
END:VEVENT
BEGIN:VTIMEZONE
TZID:Europe/Berlin
X-LIC-LOCATION:Europe/Berlin
END:VTIMEZONE
END:VCALENDAR