BEGIN:VCALENDAR
VERSION:2.0
PRODID:www.mobile-brownie.com
X-WR-TIMEZONE:Europe/Berlin
X-PUBLISHED-TTL:P1W
BEGIN:VEVENT
UID:69e5071d691f5
DTSTART;TZID=Europe/Berlin:20110304T000000
SEQUENCE:0
TRANSP:OPAQUE
DTEND;TZID=Europe/Berlin:20110304T235959
LOCATION:Klosterstr. 18a
SUMMARY:Eltern - Kind - Café\nSpielen\, Kontakte\, Kaffee und Kuchen für 
 Eltern und Kinder
RRULE:FREQ=WEEKLY;INTERVAL=1;BYDAY=WE
DTSTAMP:20260419T184725Z
END:VEVENT
BEGIN:VTIMEZONE
TZID:Europe/Berlin
X-LIC-LOCATION:Europe/Berlin
END:VTIMEZONE
END:VCALENDAR