BEGIN:VCALENDAR
VERSION:2.0
PRODID:www.mobile-brownie.com
X-WR-TIMEZONE:Europe/Berlin
X-PUBLISHED-TTL:P1W
BEGIN:VEVENT
UID:69e4ef3b853d3
DTSTART;TZID=Europe/Berlin:20110304T000000
SEQUENCE:0
TRANSP:OPAQUE
DTEND;TZID=Europe/Berlin:20110304T235959
LOCATION:Nordstr. 9
SUMMARY:Der hyperphantastische Computer
RRULE:FREQ=MONTHLY;INTERVAL=1;BYDAY=0MO
DTSTAMP:20260419T170531Z
END:VEVENT
BEGIN:VTIMEZONE
TZID:Europe/Berlin
X-LIC-LOCATION:Europe/Berlin
END:VTIMEZONE
END:VCALENDAR