BEGIN:VCALENDAR
VERSION:2.0
PRODID:www.mobile-brownie.com
X-WR-TIMEZONE:Europe/Berlin
X-PUBLISHED-TTL:P1W
BEGIN:VEVENT
UID:69ed775ead38f
DTSTART;TZID=Europe/Berlin:20260426T170000
SEQUENCE:0
TRANSP:OPAQUE
DTEND;TZID=Europe/Berlin:20260426T235959
LOCATION:Rinteln Klosterkirche\, Am Kloster 1 
SUMMARY:Chopin am Nachmittag
DTSTAMP:20260426T042430Z
END:VEVENT
BEGIN:VTIMEZONE
TZID:Europe/Berlin
X-LIC-LOCATION:Europe/Berlin
END:VTIMEZONE
END:VCALENDAR