BEGIN:VCALENDAR
VERSION:2.0
PRODID:www.mobile-brownie.com
X-WR-TIMEZONE:Europe/Berlin
X-PUBLISHED-TTL:P1W
BEGIN:VEVENT
UID:69ed85ecacaa0
DTSTART;TZID=Europe/Berlin:20260426T170000
SEQUENCE:0
TRANSP:OPAQUE
DTEND;TZID=Europe/Berlin:20260426T235959
LOCATION:Wunstorf Sigwardskirche\, An der Sigwardskirche 3
SUMMARY:Acoustic guitar\, global sounds & live looping
DTSTAMP:20260426T052636Z
END:VEVENT
BEGIN:VTIMEZONE
TZID:Europe/Berlin
X-LIC-LOCATION:Europe/Berlin
END:VTIMEZONE
END:VCALENDAR