BEGIN:VCALENDAR
VERSION:2.0
PRODID:www.mobile-brownie.com
X-WR-TIMEZONE:Europe/Berlin
X-PUBLISHED-TTL:P1W
BEGIN:VEVENT
UID:69ec3a59b08b8
DTSTART;TZID=Europe/Berlin:20260425T170000
SEQUENCE:0
TRANSP:OPAQUE
DTEND;TZID=Europe/Berlin:20261018T235959
LOCATION:Wunstorf Sigwardskirche\, An der Sigwardskirche 3
SUMMARY:Zwischen Ewigkeit und Augenblick
DTSTAMP:20260425T055153Z
END:VEVENT
BEGIN:VTIMEZONE
TZID:Europe/Berlin
X-LIC-LOCATION:Europe/Berlin
END:VTIMEZONE
END:VCALENDAR