BEGIN:VCALENDAR
VERSION:2.0
PRODID:www.mobile-brownie.com
X-WR-TIMEZONE:Europe/Berlin
X-PUBLISHED-TTL:P1W
BEGIN:VEVENT
UID:69e9ad91911e5
DTSTART;TZID=Europe/Berlin:20261108T130000
SEQUENCE:0
TRANSP:OPAQUE
DTEND;TZID=Europe/Berlin:20261108T180000
LOCATION:Rinteln Marktplatz 
SUMMARY:Verkaufsoffener Sonntag in Rinteln
DTSTAMP:20260423T072641Z
END:VEVENT
BEGIN:VTIMEZONE
TZID:Europe/Berlin
X-LIC-LOCATION:Europe/Berlin
END:VTIMEZONE
END:VCALENDAR