BEGIN:VCALENDAR
VERSION:2.0
PRODID:www.mobile-brownie.com
X-WR-TIMEZONE:Europe/Berlin
X-PUBLISHED-TTL:P1W
BEGIN:VEVENT
UID:69e7e7fb7b0f8
DTSTART;TZID=Europe/Berlin:20110304T190000
SEQUENCE:0
TRANSP:OPAQUE
DTEND;TZID=Europe/Berlin:20110304T210000
LOCATION:Jugendfreizeitstätte Bückeburg\, Jetenburger Str. 34
SUMMARY:Übungsabend\ndes Akkordeon-Orchesters Bückeburg 1946 e.V.
RRULE:FREQ=WEEKLY;INTERVAL=1;BYDAY=WE;BYHOUR=19;BYMINUTE=0
DTSTAMP:20260421T231123Z
END:VEVENT
BEGIN:VTIMEZONE
TZID:Europe/Berlin
X-LIC-LOCATION:Europe/Berlin
END:VTIMEZONE
END:VCALENDAR