BEGIN:VCALENDAR
VERSION:2.0
PRODID:www.mobile-brownie.com
X-WR-TIMEZONE:Europe/Berlin
X-PUBLISHED-TTL:P1W
BEGIN:VEVENT
UID:69ece0b3e7dac
DTSTART;TZID=Europe/Berlin:20260912T000000
SEQUENCE:0
TRANSP:OPAQUE
DTEND;TZID=Europe/Berlin:20260913T235959
LOCATION:Innenstadt Rinteln 
SUMMARY:Öko- und Bauernmarkt
DTSTAMP:20260425T174139Z
END:VEVENT
BEGIN:VTIMEZONE
TZID:Europe/Berlin
X-LIC-LOCATION:Europe/Berlin
END:VTIMEZONE
END:VCALENDAR