BEGIN:VCALENDAR
VERSION:2.0
PRODID:www.mobile-brownie.com
X-WR-TIMEZONE:Europe/Berlin
X-PUBLISHED-TTL:P1W
BEGIN:VEVENT
UID:69e7d5aed704f
DTSTART;TZID=Europe/Berlin:20161013T200000
SEQUENCE:0
TRANSP:OPAQUE
DTEND;TZID=Europe/Berlin:20161013T220000
LOCATION:Sporthalle
SUMMARY:Jedermann-Sport
RRULE:FREQ=WEEKLY;INTERVAL=1;BYDAY=TU;BYHOUR=20;BYMINUTE=0
DTSTAMP:20260421T215318Z
END:VEVENT
BEGIN:VTIMEZONE
TZID:Europe/Berlin
X-LIC-LOCATION:Europe/Berlin
END:VTIMEZONE
END:VCALENDAR