BEGIN:VCALENDAR
VERSION:2.0
PRODID:www.mobile-brownie.com
X-WR-TIMEZONE:Europe/Berlin
X-PUBLISHED-TTL:P1W
BEGIN:VEVENT
UID:69e7e80819e9b
DTSTART;TZID=Europe/Berlin:20140824T194500
SEQUENCE:0
TRANSP:OPAQUE
DTEND;TZID=Europe/Berlin:20140824T220000
LOCATION:Nordstr. 9 ( in den Räumen der Landeskirchlichen Gemeinschaft )
SUMMARY:Chorprobe Schaumburger Kanada - Chor Stadthagen e.V.\n- Singen ist 
 ein anderes Wort für Glück -
RRULE:FREQ=WEEKLY;INTERVAL=1;BYDAY=WE;BYHOUR=19;BYMINUTE=45
DTSTAMP:20260421T231136Z
END:VEVENT
BEGIN:VTIMEZONE
TZID:Europe/Berlin
X-LIC-LOCATION:Europe/Berlin
END:VTIMEZONE
END:VCALENDAR